BEGIN:VCALENDAR
VERSION:2.0
PRODID:-//TYPO3/NONSGML News system (news)//EN
BEGIN:VEVENT
UID:news-92301@physik.uni-graz.at
DTSTAMP:20241223T102345Z
DTSTART:20221019T150000Z
DTEND:20221019T150000Z
SUMMARY:Facetten der Physik

DESCRIPTION:Oliver Hofmann: &quot;Künstlicher Intelligenz in der Materialforschung: Werden Roboter Wissenschaftler:innen ersetzen?&quot;
END:VEVENT
END:VCALENDAR
