BEGIN:VCALENDAR
VERSION:2.0
PRODID:-//TYPO3/NONSGML News system (news)//EN
BEGIN:VEVENT
UID:news-114209@physik.uni-graz.at
DTSTAMP:20241223T102345Z
DTSTART:20240508T150000Z
DTEND:20240508T150000Z
SUMMARY:Facetten der Physik

DESCRIPTION:Leopold Mathelitsch und Christian B. Lang: &quot;Ham’s eins g’sehn? Atome, Quarks und Dunkle Materie&quot;
END:VEVENT
END:VCALENDAR
