BEGIN:VCALENDAR
VERSION:2.0
PRODID:-//TYPO3/NONSGML News system (news)//EN
BEGIN:VEVENT
UID:news-110434@physik.uni-graz.at
DTSTAMP:20241223T102345Z
DTSTART:20240124T160000Z
DTEND:20240124T160000Z
SUMMARY:Facetten der Physik

DESCRIPTION:Martin Schultze: &quot;Physiknobelpreis 2024: Untersuchung der Elektronendynamik mit Hilfe von Attosekunden-Lichtpulsen&quot;
END:VEVENT
END:VCALENDAR
