BEGIN:VCALENDAR
VERSION:2.0
PRODID:-//TYPO3/NONSGML News system (news)//EN
BEGIN:VEVENT
UID:news-109385@physik.uni-graz.at
DTSTAMP:20241223T102345Z
DTSTART:20231206T160000Z
DTEND:20231206T160000Z
SUMMARY:ABSAGE: Facetten der Physik

DESCRIPTION:Abgesagt: Andreas Trügler: &quot;Arktische Gletscher, Klimawandel und KI – Ein Einblick in moderne Polarforschung in Grönland&quot;
END:VEVENT
END:VCALENDAR
