BEGIN:VCALENDAR
VERSION:2.0
PRODID:-//TYPO3/NONSGML News system (news)//EN
BEGIN:VEVENT
UID:news-103037@physik.uni-graz.at
DTSTAMP:20241223T102345Z
DTSTART:20230524T150000Z
DTEND:20230524T150000Z
SUMMARY:Facetten der Physik

DESCRIPTION:Georg Pabst: &quot;Nanoskopische Einblicke in die Funktion von Zellmembranen&quot;
END:VEVENT
END:VCALENDAR
