BEGIN:VCALENDAR
VERSION:2.0
PRODID:-//TYPO3/NONSGML News system (news)//EN
BEGIN:VEVENT
UID:news-101157@physik.uni-graz.at
DTSTAMP:20241223T102345Z
DTSTART:20230329T150000Z
DTEND:20230329T150000Z
SUMMARY:Facetten der Physik

DESCRIPTION:Leopold Mathelitsch und Christian B. Lang: &quot;Wunderkammer Natur - Erstaunliche Phänomene: Feuer, Erde, Luft, Wasser&quot;
END:VEVENT
END:VCALENDAR
