BEGIN:VCALENDAR
VERSION:2.0
PRODID:-//TYPO3/NONSGML News system (news)//EN
BEGIN:VEVENT
UID:news-98935@physik.uni-graz.at
DTSTAMP:20241223T102345Z
DTSTART:20230118T160000Z
DTEND:20230118T160000Z
SUMMARY:Facetten der Physik

DESCRIPTION:Julia Danzer: &quot;Klimaphysik und Klimawandel: Vom Verstehen zum Handeln&quot;
END:VEVENT
END:VCALENDAR
