BEGIN:VCALENDAR
VERSION:2.0
PRODID:-//TYPO3/NONSGML News system (news)//EN
BEGIN:VEVENT
UID:news-98044@physik.uni-graz.at
DTSTAMP:20241223T102345Z
DTSTART:20221207T160000Z
DTEND:20221207T160000Z
SUMMARY:Facetten der Physik

DESCRIPTION:Herbert Pietschmann: &quot;Nobelpreis Physik 2022: Verschränkte Zustände - Von der Theorie zur Technologie&quot;
END:VEVENT
END:VCALENDAR
