BEGIN:VCALENDAR
VERSION:2.0
PRODID:-//TYPO3/NONSGML News system (news)//EN
BEGIN:VEVENT
UID:news-97152@physik.uni-graz.at
DTSTAMP:20241223T102345Z
DTSTART:20221116T160000Z
DTEND:20221116T160000Z
SUMMARY:Facetten der Physik

DESCRIPTION:Christiane Helling: &quot;Exoplaneten in der James-Webb-Ära&quot;
END:VEVENT
END:VCALENDAR
