BEGIN:VCALENDAR
VERSION:2.0
PRODID:-//TYPO3/NONSGML News system (news)//EN
BEGIN:VEVENT
UID:news-126440@physik.uni-graz.at
DTSTAMP:20250523T091250Z
DTSTART:20250604T150000Z
DTEND:20250604T150000Z
SUMMARY:Facetten der Physik - Vortragsreihe

DESCRIPTION:Barbara Schuppler: Die Akustik von Stimme und Sprache: Wie verstehen wir die Bedeutung von Wörtern? Und wie macht das eine KI?

END:VEVENT
END:VCALENDAR
