BEGIN:VCALENDAR
VERSION:2.0
PRODID:-//TYPO3/NONSGML News system (news)//EN
BEGIN:VEVENT
UID:news-123423@physik.uni-graz.at
DTSTAMP:20250225T143703Z
DTSTART:20250312T160000Z
DTEND:20250312T160000Z
SUMMARY:Facetten der Physik - Vortragsreihe

DESCRIPTION:Reinhard Kleindl: Zeitreisen 

END:VEVENT
END:VCALENDAR
