BEGIN:VCALENDAR
VERSION:2.0
PRODID:-//TYPO3/NONSGML News system (news)//EN
BEGIN:VEVENT
UID:news-121016@physik.uni-graz.at
DTSTAMP:20241223T102345Z
DTSTART:20241204T160000Z
DTEND:20241204T160000Z
SUMMARY:Facetten der Physik - Vortragsreihe

DESCRIPTION:Andreas Windisch: Physiknobelpreis 2024 - Lernen mit künstlichen neuronalen Netzwerken


END:VEVENT
END:VCALENDAR
