BEGIN:VCALENDAR
VERSION:2.0
PRODID:-//TYPO3/NONSGML News system (news)//EN
BEGIN:VEVENT
UID:news-120138@physik.uni-graz.at
DTSTAMP:20241223T102345Z
DTSTART:20241106T160000Z
DTEND:20241106T160000Z
SUMMARY:Facetten der Physik - Vortragsreihe

DESCRIPTION:Andreas Trügler: Arktische Gletscher, Klimawandel und KI – Ein Einblick in moderne Polarforschung in Grönland

END:VEVENT
END:VCALENDAR
