BEGIN:VCALENDAR
VERSION:2.0
PRODID:-//TYPO3/NONSGML News system (news)//EN
BEGIN:VEVENT
UID:news-72603@physik.uni-graz.at
DTSTAMP:20210507T112101Z
DTSTART:20210324T160000Z
DTEND:20210324T173000Z
SUMMARY:Facetten der Physik

DESCRIPTION:Birgitta Schultze-Bernhardt: &quot;Kürzeste Lichtblitze für atomare und molekulare Schnappschüsse&quot; 
END:VEVENT
END:VCALENDAR
