BEGIN:VCALENDAR
VERSION:2.0
PRODID:-//TYPO3/NONSGML News system (news)//EN
BEGIN:VEVENT
UID:news-73624@physik.uni-graz.at
DTSTAMP:20210507T112047Z
DTSTART:20210428T150000Z
DTEND:20210428T150000Z
SUMMARY:Facetten der Physik

DESCRIPTION:Axel Maas: &quot;Wie das Higgs unser Bild vom Elementarteilchen ändert&quot;
END:VEVENT
END:VCALENDAR
