BEGIN:VCALENDAR
VERSION:2.0
PRODID:-//TYPO3/NONSGML News system (news)//EN
BEGIN:VEVENT
UID:news-74251@physik.uni-graz.at
DTSTAMP:20210507T112008Z
DTSTART:20210512T150000Z
DTEND:20210512T150000Z
SUMMARY:Facetten der Physik

DESCRIPTION:Peter Banzer: &quot;Photonische Räder, winzige Leuchttürme und Möbiusbänder aus Licht&quot;
END:VEVENT
END:VCALENDAR
