BEGIN:VCALENDAR
VERSION:2.0
PRODID:-//TYPO3/NONSGML News system (news)//EN
BEGIN:VEVENT
UID:news-75072@physik.uni-graz.at
DTSTAMP:20210601T112951Z
DTSTART:20210609T150000Z
DTEND:20210609T150000Z
SUMMARY:Facetten der Physik

DESCRIPTION:Astrid Veronig: &quot;Sonne und Weltraumwetter&quot;
END:VEVENT
END:VCALENDAR
