BEGIN:VCALENDAR
VERSION:2.0
PRODID:-//TYPO3/NONSGML News system (news)//EN
BEGIN:VEVENT
UID:news-78701@physik.uni-graz.at
DTSTAMP:20211015T115156Z
DTSTART:20211020T150000Z
DTEND:20211020T150000Z
SUMMARY:Facetten der Physik

DESCRIPTION:Günter Kargl: &quot;Touching Mars - Landesonden auf dem roten Planeten&quot;
END:VEVENT
END:VCALENDAR
