BEGIN:VCALENDAR
VERSION:2.0
PRODID:-//TYPO3/NONSGML News system (news)//EN
BEGIN:VEVENT
UID:news-79546@physik.uni-graz.at
DTSTAMP:20211105T101534Z
DTSTART:20211117T160000Z
DTEND:20211117T160000Z
SUMMARY:Facetten der Physik

DESCRIPTION:Leopold Mathelitsch (Physik) und Sigrid Thaller (Sportwissenschaften): &quot;Alles ist Bewegung - Die Physik im Sport&quot;
END:VEVENT
END:VCALENDAR
