BEGIN:VCALENDAR
VERSION:2.0
PRODID:-//TYPO3/NONSGML News system (news)//EN
BEGIN:VEVENT
UID:news-63528@physik.uni-graz.at
DTSTAMP:20200312T122158Z
DTSTART:20200318T160000Z
DTEND:20200318T160000Z
SUMMARY:Facetten der Physik - abgesagt!

DESCRIPTION:Ein Ersatztermin wird demnächst bekanntgegeben!
END:VEVENT
END:VCALENDAR
