BEGIN:VCALENDAR
VERSION:2.0
PRODID:-//TYPO3/NONSGML News system (news)//EN
BEGIN:VEVENT
UID:news-113098@physik.uni-graz.at
DTSTAMP:20241223T102345Z
DTSTART:20240405T101500Z
DTEND:20240405T101500Z
SUMMARY:Faculty Club

DESCRIPTION:Peter Puschnig: &quot;Wie filmt man Elektronen in Molekülen? Und was können wir daraus lernen?&quot;
END:VEVENT
END:VCALENDAR
