BEGIN:VCALENDAR
VERSION:2.0
PRODID:-//TYPO3/NONSGML News system (news)//EN
BEGIN:VEVENT
UID:news-63717@physik.uni-graz.at
DTSTAMP:20200312T122548Z
DTSTART:20200320T150000Z
DTEND:20200320T170000Z
SUMMARY:Führung am Observatorium Lustbühel - abgesagt!

DESCRIPTION:Alle öffentlichen Publikumsveranstaltungen an der Uni Graz, unabhängig von der Anzahl der BesucherInnen, sind bis auf weiteres abgesagt!
END:VEVENT
END:VCALENDAR
