BEGIN:VCALENDAR
VERSION:2.0
PRODID:-//TYPO3/NONSGML News system (news)//EN
BEGIN:VEVENT
UID:news-125267@physik.uni-graz.at
DTSTAMP:20250422T142834Z
DTSTART:20250512T130000Z
DTEND:20250512T130000Z
SUMMARY:Baustellen-Update / neue Bauzaun-Ausstellung / Rock-Konzert

DESCRIPTION:Am 12. Mai 2025 laden wir zwischen 15 und 17 Uhr wieder auf den Campus der Uni Graz zu einem Baustellen-Update mit Eröffnung der neuen Bauzaun-Galerie sowie mit einem Konzert der Band „Stromverschwendung“. Außerdem erwartet die Gäste Gratis-Eis und Kaffee (solange der Vorrat reicht).
END:VEVENT
END:VCALENDAR
