BEGIN:VCALENDAR
VERSION:2.0
PRODID:-//TYPO3/NONSGML News system (news)//EN
BEGIN:VEVENT
UID:news-110668@physik.uni-graz.at
DTSTAMP:20241223T102345Z
DTSTART:20240125T123000Z
DTEND:20240125T123000Z
SUMMARY:Graduate Days

DESCRIPTION:Graduate Days on Structure in Jets and Hadronic Final States


END:VEVENT
END:VCALENDAR
