BEGIN:VCALENDAR
VERSION:2.0
PRODID:-//TYPO3/NONSGML News system (news)//EN
BEGIN:VEVENT
UID:news-103418@physik.uni-graz.at
DTSTAMP:20241223T102345Z
DTSTART:20230601T110000Z
DTEND:20230602T150000Z
SUMMARY:Graduate days “Exotic hadrons”

DESCRIPTION:Speakers: Claudia Patrignani (University of Bologna, Italy), Alessandro Pilloni (University of Messina, Italy), Eric Swanson (University of Pittsburgh, USA)
END:VEVENT
END:VCALENDAR
