BEGIN:VCALENDAR
VERSION:2.0
PRODID:-//TYPO3/NONSGML News system (news)//EN
BEGIN:VEVENT
UID:news-74575@physik.uni-graz.at
DTSTAMP:20210518T142204Z
DTSTART:20210526T130000Z
DTEND:20210526T130000Z
SUMMARY:Habilitationskolloquium

DESCRIPTION:Suchita Kulkarni „Illuminating dark matter“ 
END:VEVENT
END:VCALENDAR
