BEGIN:VCALENDAR
VERSION:2.0
PRODID:-//TYPO3/NONSGML News system (news)//EN
BEGIN:VEVENT
UID:news-115346@physik.uni-graz.at
DTSTAMP:20241223T102345Z
DTSTART:20240607T183000Z
DTEND:20240607T183000Z
SUMMARY:Kurzlesungen - Fest ohne Grenzen

DESCRIPTION: Manuela Stadlober-Temmer erklärt, welche vielfältigen Wirkungen die Sonne auf die Erde hat.
END:VEVENT
END:VCALENDAR
