BEGIN:VCALENDAR
VERSION:2.0
PRODID:-//TYPO3/NONSGML News system (news)//EN
BEGIN:VEVENT
UID:news-114776@physik.uni-graz.at
DTSTAMP:20241223T102345Z
DTSTART:20240524T144500Z
DTEND:20240524T144500Z
SUMMARY:Lange Nacht der Forschung

DESCRIPTION:Am Observatorium Lustbühel werden eine Mitmachstation sowie zwei Führungen angeboten.
END:VEVENT
END:VCALENDAR
