BEGIN:VCALENDAR
VERSION:2.0
PRODID:-//TYPO3/NONSGML News system (news)//EN
BEGIN:VEVENT
UID:news-62128@physik.uni-graz.at
DTSTAMP:20200312T122258Z
DTSTART:20200508T160000Z
DTEND:20200508T230000Z
SUMMARY:Lange Nacht der Forschung am Observatorium Lustbühel - wird verschoben!

DESCRIPTION:Ein Ersatztermin im Herbst 2020 wird in Kürze bekanntgegeben!
END:VEVENT
END:VCALENDAR
