BEGIN:VCALENDAR
VERSION:2.0
PRODID:-//TYPO3/NONSGML News system (news)//EN
BEGIN:VEVENT
UID:news-83792@physik.uni-graz.at
DTSTAMP:20220219T073219Z
DTSTART:20220401T070000Z
DTEND:20220401T150000Z
SUMMARY:Masterclass 2022

DESCRIPTION:Grundlagen und Arbeitsweise der Elementarteilchenphysik für interessierte Schülerinnen und Schüler der Oberstufe
END:VEVENT
END:VCALENDAR
