BEGIN:VCALENDAR
VERSION:2.0
PRODID:-//TYPO3/NONSGML News system (news)//EN
BEGIN:VEVENT
UID:news-103925@physik.uni-graz.at
DTSTAMP:20241223T102345Z
DTSTART:20230630T101500Z
DTEND:20230630T101500Z
SUMMARY:NAWI Faculty Club

DESCRIPTION:Peter Banzer: „The Beauty of Structure –Sculpting Light, Sound, and Matter for Science, Applications, and for Fun“
END:VEVENT
END:VCALENDAR
