BEGIN:VCALENDAR
VERSION:2.0
PRODID:-//TYPO3/NONSGML News system (news)//EN
BEGIN:VEVENT
UID:news-132367@physik.uni-graz.at
DTSTAMP:20251212T123337Z
DTSTART:20260116T111500Z
DTEND:20260116T111500Z
SUMMARY:NAWI Faculty Club

DESCRIPTION:Alexander Shapiro: „Stellar Magnetic Activity in the Exoplanet Era: How Planet-Hunting Transformed Our View of Stars&quot;
END:VEVENT
END:VCALENDAR
