BEGIN:VCALENDAR
VERSION:2.0
PRODID:-//TYPO3/NONSGML News system (news)//EN
BEGIN:VEVENT
UID:news-102659@physik.uni-graz.at
DTSTAMP:20241223T102345Z
DTSTART:20230505T101500Z
DTEND:20230505T101500Z
SUMMARY:NAWI Faculty-Club 

DESCRIPTION:Priv.-Doz. Dr. Martin Holler: „Wie man mit der Blackbox umgeht - Risikoquantifizierung für Methoden der künstlichen Intelligenz“
END:VEVENT
END:VCALENDAR
