BEGIN:VCALENDAR
VERSION:2.0
PRODID:-//TYPO3/NONSGML News system (news)//EN
BEGIN:VEVENT
UID:news-73443@physik.uni-graz.at
DTSTAMP:20210414T093121Z
DTSTART:20210426T130000Z
DTEND:20210426T160000Z
SUMMARY:Öffentliches Habilitationskolloquium

DESCRIPTION:Dr. Hèlios Sanchis Alepuz „Developments of the covariant Bethe-Salpeter approach to hadron phenomenology“
END:VEVENT
END:VCALENDAR
