BEGIN:VCALENDAR
VERSION:2.0
PRODID:-//TYPO3/NONSGML News system (news)//EN
BEGIN:VEVENT
UID:news-72952@physik.uni-graz.at
DTSTAMP:20210420T115034Z
DTSTART:20210408T060000Z
DTEND:20210408T160000Z
SUMMARY:open house

DESCRIPTION:Online-Tag der offenen Tür 2021: Besser informiert ins Studium!
END:VEVENT
END:VCALENDAR
