BEGIN:VCALENDAR
VERSION:2.0
PRODID:-//TYPO3/NONSGML News system (news)//EN
BEGIN:VEVENT
UID:news-86054@physik.uni-graz.at
DTSTAMP:20241223T102345Z
DTSTART:20220428T120000Z
DTEND:20220428T124500Z
SUMMARY:Open House

DESCRIPTION:Besuche den online-Tag der offen Tür 2022. Chatte live am 28.4. (14-14:45 Uhr) mit Claudia Haagen-Schützenhöfer (Lehramt Physik).
END:VEVENT
END:VCALENDAR
