BEGIN:VCALENDAR
VERSION:2.0
PRODID:-//TYPO3/NONSGML News system (news)//EN
BEGIN:VEVENT
UID:news-85807@physik.uni-graz.at
DTSTAMP:20220420T133031Z
DTSTART:20220426T100000Z
DTEND:20220426T104500Z
SUMMARY:Open House

DESCRIPTION:Besuche den online-Tag der offen Tür 2022. Chatte live am  26.4.2022 (12-12:45 Uhr) sowie am 28.4. (14-14:45 Uhr) mit Lehrenden der Physik.
END:VEVENT
END:VCALENDAR
