BEGIN:VCALENDAR
VERSION:2.0
PRODID:-//TYPO3/NONSGML News system (news)//EN
BEGIN:VEVENT
UID:news-77286@physik.uni-graz.at
DTSTAMP:20210907T141705Z
DTSTART:20210925T080000Z
DTEND:20210925T101500Z
SUMMARY:Pensionierungsfeier von Walter Pötz

DESCRIPTION:Einladung zur Feier anlässlich der Pensionierung von o.Univ.-Prof. Dr. Walter Pötz
END:VEVENT
END:VCALENDAR
