BEGIN:VCALENDAR
VERSION:2.0
PRODID:-//TYPO3/NONSGML News system (news)//EN
BEGIN:VEVENT
UID:news-85122@physik.uni-graz.at
DTSTAMP:20220328T092854Z
DTSTART:20220328T150000Z
DTEND:20220328T150000Z
SUMMARY:PhD Seminar &quot;Experimental and Solid State Physics&quot;

DESCRIPTION:Brian Kantor: &quot;Structured Light and Epsilon-Near-Zero Materials&quot;
END:VEVENT
END:VCALENDAR
