BEGIN:VCALENDAR
VERSION:2.0
PRODID:-//TYPO3/NONSGML News system (news)//EN
BEGIN:VEVENT
UID:news-88312@physik.uni-graz.at
DTSTAMP:20241223T102345Z
DTSTART:20220530T150000Z
DTEND:20220530T150000Z
SUMMARY:PhD Seminar &quot;Experimental and Solid State Physics&quot;

DESCRIPTION:David Mareček: “Artificial Intelligence Co-Refinement of X-Ray Reflectivity Data Enables Faster and Lower Dose Measurements”
END:VEVENT
END:VCALENDAR
