BEGIN:VCALENDAR
VERSION:2.0
PRODID:-//TYPO3/NONSGML News system (news)//EN
BEGIN:VEVENT
UID:news-87569@physik.uni-graz.at
DTSTAMP:20241223T102345Z
DTSTART:20220516T150000Z
DTEND:20220516T150000Z
SUMMARY:PhD Seminar &quot;Experimental and Solid State Physics&quot;

DESCRIPTION:Ilias Gazizullin: “Scanning Tunneling Microscopy of Organic Molecules on the Cu(110)-(2×1)O Striped Phase”
END:VEVENT
END:VCALENDAR
