BEGIN:VCALENDAR
VERSION:2.0
PRODID:-//TYPO3/NONSGML News system (news)//EN
BEGIN:VEVENT
UID:news-86987@physik.uni-graz.at
DTSTAMP:20241223T102345Z
DTSTART:20220509T150000Z
DTEND:20220509T150000Z
SUMMARY:PhD Seminar &quot;Experimental and Solid State Physics&quot;

DESCRIPTION:Florian Schwarz: “Self-metalation of 2H-Tetraphenyl Porphyrin and 2H-Porphine on Magnesium Oxide films”
END:VEVENT
END:VCALENDAR
