BEGIN:VCALENDAR
VERSION:2.0
PRODID:-//TYPO3/NONSGML News system (news)//EN
BEGIN:VEVENT
UID:news-86185@physik.uni-graz.at
DTSTAMP:20220422T072705Z
DTSTART:20220425T150000Z
DTEND:20220425T150000Z
SUMMARY:PhD Seminar &quot;Experimental and Solid State Physics&quot;

DESCRIPTION:Johannes Bütow: “Getting in Touch with Integrated Photonic Circuits”


END:VEVENT
END:VCALENDAR
