BEGIN:VCALENDAR
VERSION:2.0
PRODID:-//TYPO3/NONSGML News system (news)//EN
BEGIN:VEVENT
UID:news-85390@physik.uni-graz.at
DTSTAMP:20220404T071855Z
DTSTART:20220404T150000Z
DTEND:20220404T150000Z
SUMMARY:PhD Seminar &quot;Experimental and Solid State Physics&quot;

DESCRIPTION:Thomas Georg Boné: “Momentum Microscopy of Organic-Metal Interfaces –  Unravelling Mysteries of Electronic and Geometric Structure”


END:VEVENT
END:VCALENDAR
