BEGIN:VCALENDAR
VERSION:2.0
PRODID:-//TYPO3/NONSGML News system (news)//EN
BEGIN:VEVENT
UID:news-98166@physik.uni-graz.at
DTSTAMP:20241223T102345Z
DTSTART:20221205T160000Z
DTEND:20221205T160000Z
SUMMARY:PhD Seminar &quot;Experimental and Solid State Physics&quot;

DESCRIPTION:Jan Enenkel: &quot;Structured Light Raman Spectroscopy&quot;

END:VEVENT
END:VCALENDAR
