BEGIN:VCALENDAR
VERSION:2.0
PRODID:-//TYPO3/NONSGML News system (news)//EN
BEGIN:VEVENT
UID:news-97954@physik.uni-graz.at
DTSTAMP:20241223T102345Z
DTSTART:20221128T160000Z
DTEND:20221128T160000Z
SUMMARY:PhD Seminar &quot;Experimental and Solid State Physics&quot;

DESCRIPTION:Brian Kantor: &quot;Epsilon-Near-Zero Responses altered by Nano-Fabrication Side Effects&quot;

END:VEVENT
END:VCALENDAR
