BEGIN:VCALENDAR
VERSION:2.0
PRODID:-//TYPO3/NONSGML News system (news)//EN
BEGIN:VEVENT
UID:news-97589@physik.uni-graz.at
DTSTAMP:20241223T102345Z
DTSTART:20221121T160000Z
DTEND:20221121T160000Z
SUMMARY:PhD Seminar &quot;Experimental and Solid State Physics&quot;

DESCRIPTION:Sergei Gladyshev: &quot;bound states in the continuum in all-dielectric photonic structures&quot;

END:VEVENT
END:VCALENDAR
