BEGIN:VCALENDAR
VERSION:2.0
PRODID:-//TYPO3/NONSGML News system (news)//EN
BEGIN:VEVENT
UID:news-89608@physik.uni-graz.at
DTSTAMP:20241223T102345Z
DTSTART:20220704T150000Z
DTEND:20220704T150000Z
SUMMARY:PhD Seminar &quot;Experimental and Solid State Physics&quot;

DESCRIPTION:Marko Šimić: Nanoparticle Characterization: Challenges &amp; Approaches

END:VEVENT
END:VCALENDAR
