BEGIN:VCALENDAR
VERSION:2.0
PRODID:-//TYPO3/NONSGML News system (news)//EN
BEGIN:VEVENT
UID:news-89093@physik.uni-graz.at
DTSTAMP:20241223T102345Z
DTSTART:20220620T150000Z
DTEND:20220620T150000Z
SUMMARY:PhD Seminar &quot;Experimental and Solid State Physics&quot;

DESCRIPTION:Dorian Brandmüller: Measuring structured light Introducing a more unified approach
END:VEVENT
END:VCALENDAR
