BEGIN:VCALENDAR
VERSION:2.0
PRODID:-//TYPO3/NONSGML News system (news)//EN
BEGIN:VEVENT
UID:news-84900@physik.uni-graz.at
DTSTAMP:20220321T123445Z
DTSTART:20220321T160000Z
DTEND:20220321T164500Z
SUMMARY:PhD Seminar &quot;Experimental and Solid State Physics&quot;

DESCRIPTION:Max Niederreiter: &quot;Catalytic Hydration of Acetylene&quot;
END:VEVENT
END:VCALENDAR
